Workbook
Name Print_Area_MI: #REF!

Sheet Application
A1: AGRICULTURAL CREDIT APPLICATION
F4: Farmers and Merchants | J4: Date: | N4: Notice of Right to Receive Copy of Written Appraisal/Valuation: Pursuant to 12 CFR 1002.14(a), we may order an appraisal to determine the property’s value and charge you for this appraisal. We will promptly give you a copy of any appraisal, even if your loan does not close. You can pay for an additional appraisal for your own use at your own cost.
F5: Savings Bank | J5: Telephone #
J6: Taxpayer I.D.
F7: PO Box 588 | J7: Taxpayer I.D.
F8: Manchester, IA 52057
E10: Creditor's Name and Address
A11: General Information
A13: Legal Relationship: | F13: [ ] Individual | H13: [ ] Joint
F14: [ ] Corporation | H14: [ ] Partnership | K14: [ ] Sole-Proprietorship
A16: Authorization Resolution: | F16: [ ] Submitted with statement | J16: [ ] To be provided
A18: Name of Accountant or Accounting Firm
A19: Name of Persons Authorized to Borrow Money on Behalf of or in the Name of the Applicant:
A22: Credit Request
A23: Type of Credit: | F23: [ ] Secured | H23: [ ] Unsecured
A25: Purpose of Credit:
A27: Equal Credit Opportunity Notice
A28: If your gross revenues were $1,000,000 or less in your previous fiscal year, and the Creditor denies your application for credit, you have the right to a written statement of the specific reasons for the denial. To obtain the statement, please contact: F&M Bank PO Box 588 Manchester, IA 52057 (563) 927-2979 within 60 days from the date you are notified of the Creditor's decision. The Creditor will send you a written statement of the reason(s) for the denial within 30 days of receiving your request for the statement. The notice at right describes additional protections extended to you. | H28: NOTICE: The Federal Equal Credit Opportunity Act prohibits creditors from discriminating against credit applicants on the basis of race, color, religion, national origin, sex, marital status, age (providing the applicant has the capacity to enter into a binding contract); because all or a part of the applicant’s income derives from any public assistance program; or because the applicant has in good faith exercised any right under the Consumer Credit Protection Act, the federal agency that administers compliance with this law concerning this credit is: Federal Reserve Bank of Chicago 230 South LaSalle Chicago, IL 60604
A39: This information and the information provided on all accompanying financial statements and schedules is provided for the purpose of obtaining credit for the Applicant(s) or for the purpose of Applicant(s) guaranteeing credit for others. Applicant(s) acknowledge that representations made in this statement will be relied on by Creditor in its decision to grant such credit. This Statement is true and correct in every detail and accurately represents the financial condition of the Applicant(s) on the date given below. Creditor is authorized to make all inquiries it deems necessary to verify the accuracy of the information contained herein and to determine the creditworthiness of the Applicant(s). Applicant(s) will promptly notify Creditor of any subsequent changes which would affect the accuracy of this Statement. Creditor is further authorized to answer any questions about Creditor’s credit experience with Applicant(s). Applicant(s) are aware that any knowing or willful false statements regarding the value of the property for purposes of influencing the actions of Creditor can be a violation of federal law, 18 U.S.C & 1014, and may result in a fine or imprisonment or both. By signing below, each applicant declares that he/she has read and understands the statement above.
A46: Signature | F46: Date | H46: Signature | L46: Date
A48: Signature | F48: Date | H48: Signature | L48: Date
A49: Notice of Right to Receive Copy of Written Appraisal/Valuation: We may order an appraisal to determine the property’s value and charge you for this appraisal. We will promptly give you a copy of any appraisal, even if your loan does not close. You can pay for an additional appraisal for your own use at your own cost.

Sheet SCHEDULE.XLS
F1: Financial Statement -- Schedules | J1: Page 1 | N1: Financial Statement -- Schedules | S1: Page 2
A2: Name:
A3: Name: | I3: Date:
A5: Schedule A -- Real Estate Owned | C5: **Type of RE = (Irr)igated, (Dry)land, (Pas)ture** | G5: Schedule D -- Machinery and Equipment | K5: Schedule L1 -- Currents Notes Payable | N5: ** To Whom = (B)ank, (O)ther **
A6: Description | C6: Acres | D6: Type | E6: Value/Acre | F6: Value | G6: Yr. | H6: Description | J6: Value | L6: To | M6: Payment | N6: Interest | P6: Accrued | Q6: Principal | X6: Current Notes Payable
F7: =IF(C7>0,C7*E7,"") | K7: Description | L7: Whom | M7: Date | N7: Rate | P7: Interest | Q7: Balance | X7: Bank | Y7: Other
L8: B | N8: 0 | X8: =IF(L8="B",Q8,0) -> 0 | Y8: =IF(L8="O",Q8,0) -> 0
F9: =IF(C9>0,C9*E9,"") | L9: B | N9: 0 | X9: =IF(L9="B",Q9,0) -> 0 | Y9: =IF(L9="O",Q9,0) -> 0
F10: =IF(C10>0,C10*E10,"") | L10: B | N10: 0 | X10: =IF(L10="B",Q10,0) -> 0 | Y10: =IF(L10="O",Q10,0) -> 0
F11: =IF(C11>0,C11*E11,"") | L11: B | N11: 0 | X11: =IF(L11="B",Q11,0) -> 0 | Y11: =IF(L11="O",Q11,0) -> 0
F12: =IF(C12>0,C12*E12,"") | L12: B | N12: 0 | X12: =IF(L12="B",Q12,0) -> 0 | Y12: =IF(L12="O",Q12,0) -> 0
F13: =IF(C13>0,C13*E13,"") | X13: =IF(L13="B",Q13,0) -> 0 | Y13: =IF(L13="O",Q13,0) -> 0
F14: =IF(C14>0,C14*E14,"") | X14: =IF(L14="B",Q14,0) -> 0 | Y14: =IF(L14="O",Q14,0) -> 0
F15: =IF(C15>0,C15*E15,"") | X15: =IF(L15="B",Q15,0) -> 0 | Y15: =IF(L15="O",Q15,0) -> 0
F16: =IF(C16>0,C16*E16,"") | X16: =IF(L16="B",Q16,0) -> 0 | Y16: =IF(L16="O",Q16,0) -> 0
E17: Total Value: | F17: =IF(SUM(C7:C16)<>0,SUM(F7:F16),"") | X17: =IF(L17="B",Q17,0) -> 0 | Y17: =IF(L17="O",Q17,0) -> 0
A18: Schedule B -- Livestock | C18: **Type of Asset = (I)ntermediate, (C)urrent** | O18: Totals: | P18: =IF(SUM(P8:P17)<>0,SUM(P8:P17),"") | Q18: =IF(SUM(Q8:Q17)<>0,SUM(Q8:Q17),"") | X18: =IF(SUM(X8:X17)<>0,SUM(X8:X17),"") | Y18: =IF(SUM(Y8:Y17)<>0,SUM(Y8:Y17),"")
A19: Description | C19: Number | D19: Type | E19: Value/Head | F19: Value | K19: Schedule L2 -- Intermediate Liabilities | N19: ** To Whom = (B)ank, (O)ther ** | U19: Intermediate | V19: Current
F20: =IF(C20>0,C20*E20,"") | L20: To | M20: Payment | N20: Interest | O20: Payment | P20: Accrued | Q20: Total | R20: Current | S20: Non-Current | U20: =IF(D20="I",F20,0) -> 0 | V20: =IF(D20="C",F20,0) -> 0 | X20: Intermediate Liabilities
F21: =IF(C21>0,C21*E21,"") | K21: Description | L21: Whom | M21: Date | N21: Rate | O21: Amount | P21: Interest | Q21: Principal | R21: Portion | S21: Portion | U21: =IF(D21="I",F21,0) -> 0 | V21: =IF(D21="C",F21,0) -> 0 | X21: Bk Curr | Y21: Oth Curr | Z21: BkNon-Curr | AA21: Oth Non-Curr
F22: =IF(C22>0,C22*E22,"") | L22: B | N22: 0 | O22: 0 | R22: 0 | S22: =IF(Q22+R22<>0,Q22-R22,"") | U22: =IF(D22="I",F22,0) -> 0 | V22: =IF(D22="C",F22,0) -> 0 | X22: =IF(L22="B",R22,0) -> 0 | Y22: =IF(L22="O",R22,0) -> 0 | Z22: =IF(L22="B",S22,0) | AA22: =IF(L22="O",S22,0) -> 0
F23: =IF(C23>0,C23*E23,"") | L23: B | N23: 0 | O23: 0 | R23: 0 | S23: =IF(Q23+R23<>0,Q23-R23,"") | U23: =IF(D23="I",F23,0) -> 0 | V23: =IF(D23="C",F23,0) -> 0 | X23: =IF(L23="B",R23,0) -> 0 | Y23: =IF(L23="O",R23,0) -> 0 | Z23: =IF(L23="B",S23,0) | AA23: =IF(L23="O",S23,0) -> 0
F24: =IF(C24>0,C24*E24,"") | L24: O | N24: 0 | O24: 0 | S24: =IF(Q24+R24<>0,Q24-R24,"") | U24: =IF(D24="I",F24,0) -> 0 | V24: =IF(D24="C",F24,0) -> 0 | X24: =IF(L24="B",R24,0) -> 0 | Y24: =IF(L24="O",R24,0) -> 0 | Z24: =IF(L24="B",S24,0) -> 0 | AA24: =IF(L24="O",S24,0)
F25: =IF(C25>0,C25*E25,"") | S25: =IF(Q25+R25<>0,Q25-R25,"") | U25: =IF(D25="I",F25,0) -> 0 | V25: =IF(D25="C",F25,0) -> 0 | X25: =IF(L25="B",R25,0) -> 0 | Y25: =IF(L25="O",R25,0) -> 0 | Z25: =IF(L25="B",S25,0) -> 0 | AA25: =IF(L25="O",S25,0) -> 0
F26: =IF(C26>0,C26*E26,"") | S26: =IF(Q26+R26<>0,Q26-R26,"") | U26: =IF(D26="I",F26,0) -> 0 | V26: =IF(D26="C",F26,0) -> 0 | X26: =IF(L26="B",R26,0) -> 0 | Y26: =IF(L26="O",R26,0) -> 0 | Z26: =IF(L26="B",S26,0) -> 0 | AA26: =IF(L26="O",S26,0) -> 0
F27: =IF(C27>0,C27*E27,"") | S27: =IF(Q27+R27<>0,Q27-R27,"") | U27: =IF(D27="I",F27,0) -> 0 | V27: =IF(D27="C",F27,0) -> 0 | X27: =IF(L27="B",R27,0) -> 0 | Y27: =IF(L27="O",R27,0) -> 0 | Z27: =IF(L27="B",S27,0) -> 0 | AA27: =IF(L27="O",S27,0) -> 0
F28: =IF(C28>0,C28*E28,"") | S28: =IF(Q28+R28<>0,Q28-R28,"") | U28: =IF(D28="I",F28,0) -> 0 | V28: =IF(D28="C",F28,0) -> 0 | X28: =IF(L28="B",R28,0) -> 0 | Y28: =IF(L28="O",R28,0) -> 0 | Z28: =IF(L28="B",S28,0) -> 0 | AA28: =IF(L28="O",S28,0) -> 0
F29: =IF(C29>0,C29*E29,"") | S29: =IF(Q29+R29<>0,Q29-R29,"") | U29: =IF(D29="I",F29,0) -> 0 | V29: =IF(D29="C",F29,0) -> 0 | X29: =IF(L29="B",R29,0) -> 0 | Y29: =IF(L29="O",R29,0) -> 0 | Z29: =IF(L29="B",S29,0) -> 0 | AA29: =IF(L29="O",S29,0) -> 0
F30: =IF(C30>0,C30*E30,"") | S30: =IF(Q30+R30<>0,Q30-R30,"") | U30: =IF(D30="I",F30,0) -> 0 | V30: =IF(D30="C",F30,0) -> 0 | X30: =IF(L30="B",R30,0) -> 0 | Y30: =IF(L30="O",R30,0) -> 0 | Z30: =IF(L30="B",S30,0) -> 0 | AA30: =IF(L30="O",S30,0) -> 0
F31: =IF(C31>0,C31*E31,"") | S31: =IF(Q31+R31<>0,Q31-R31,"") | U31: =IF(D31="I",F31,0) -> 0 | V31: =IF(D31="C",F31,0) -> 0 | X31: =IF(L31="B",R31,0) -> 0 | Y31: =IF(L31="O",R31,0) -> 0 | Z31: =IF(L31="B",S31,0) -> 0 | AA31: =IF(L31="O",S31,0) -> 0
F32: =IF(C32>0,C32*E32,"") | N32: Totals: | O32: =IF(SUM(O22:O31)<>0,SUM(O22:O31),"") | P32: =IF(SUM(P22:P31)<>0,SUM(P22:P31),"") | Q32: =IF(SUM(Q22:Q31)<>0,SUM(Q22:Q31),"") | R32: =IF(SUM(R22:R31)<>0,SUM(R22:R31),"") | S32: =IF(SUM(S22:S31)<>0,SUM(S22:S31),"") | U32: =IF(D32="I",F32,0) -> 0 | V32: =IF(D32="C",F32,0) -> 0 | X32: =IF(SUM(X22:X31)<>0,SUM(X22:X31),"") | Y32: =IF(SUM(Y22:Y31)<>0,SUM(Y22:Y31),"") | Z32: =IF(SUM(Z22:Z31)<>0,SUM(Z22:Z31),"") | AA32: =IF(SUM(AA22:AA31)<>0,SUM(AA22:AA31),"")
F33: =IF(C33>0,C33*E33,"") | K33: Schedule L3 -- Long Term Liabilities | N33: ** To Whom = (B)ank, (O)ther ** | U33: =IF(D33="I",F33,0) -> 0 | V33: =IF(D33="C",F33,0) -> 0
F34: =IF(C34>0,C34*E34,"") | L34: To | M34: Payment | N34: Interest | O34: Payment | P34: Accrued | Q34: Total | R34: Current | S34: Non-Current | U34: =IF(D34="I",F34,0) -> 0 | V34: =IF(D34="C",F34,0) -> 0 | X34: Long Term Liabilities
F35: =IF(C35>0,C35*E35,"") | K35: Description | L35: Whom | M35: Date | N35: Rate | O35: Amount | P35: Interest | Q35: Principal | R35: Portion | S35: Portion | U35: =IF(D35="I",F35,0) -> 0 | V35: =IF(D35="C",F35,0) -> 0 | X35: Bk Curr | Y35: Oth Curr | Z35: BkNon-Curr | AA35: Oth Non-Curr
E36: Total Livestock: | F36: =IF(SUM(C20:C35)<>0,SUM(F20:F35),"") | S36: =IF(Q36+R36<>0,Q36-R36,"") | U36: =IF(SUM(U20:U35)<>0,SUM(U20:U35),"") | V36: =IF(SUM(V20:V35)<>0,SUM(V20:V35),"") | X36: =IF(L36="B",R36,0) -> 0 | Y36: =IF(L36="O",R36,0) -> 0 | Z36: =IF(L36="B",S36,0) -> 0 | AA36: =IF(L36="O",S36,0) -> 0
A37: Schedule C -- Feed/Grain on hand | S37: =IF(Q37+R37<>0,Q37-R37,"") | X37: =IF(L37="B",R37,0) -> 0 | Y37: =IF(L37="O",R37,0) -> 0 | Z37: =IF(L37="B",S37,0) -> 0 | AA37: =IF(L37="O",S37,0) -> 0
A38: Description | C38: Quantity | D38: Meas. | E38: Unit Value | F38: Value | S38: =IF(Q38+R38<>0,Q38-R38,"") | X38: =IF(L38="B",R38,0) -> 0 | Y38: =IF(L38="O",R38,0) -> 0 | Z38: =IF(L38="B",S38,0) -> 0 | AA38: =IF(L38="O",S38,0) -> 0
F39: =IF(C39>0,C39*E39,"") | S39: =IF(Q39+R39<>0,Q39-R39,"") | X39: =IF(L39="B",R39,0) -> 0 | Y39: =IF(L39="O",R39,0) -> 0 | Z39: =IF(L39="B",S39,0) -> 0 | AA39: =IF(L39="O",S39,0) -> 0
F40: =IF(C40>0,C40*E40,"") | S40: =IF(Q40+R40<>0,Q40-R40,"") | X40: =IF(L40="B",R40,0) -> 0 | Y40: =IF(L40="O",R40,0) -> 0 | Z40: =IF(L40="B",S40,0) -> 0 | AA40: =IF(L40="O",S40,0) -> 0
F41: =IF(C41>0,C41*E41,"") | S41: =IF(Q41+R41<>0,Q41-R41,"") | X41: =IF(L41="B",R41,0) -> 0 | Y41: =IF(L41="O",R41,0) -> 0 | Z41: =IF(L41="B",S41,0) -> 0 | AA41: =IF(L41="O",S41,0) -> 0
...

Sheet FIN-STMT.XLS
G1: Financial Statement
L2: Date:
B3: Name: | I3: Address:
B4: Name: | I4: Address:
A6: Assets | H6: Liabilities & Equity
A7: Current Assets: | H7: Current Liabilities:
B8: Cash/Checking | I8: Open or Charge Accounts
B9: Savings/CD's
B10: Bonds and Securities
B11: Notes and Accts Receivable
I15: Notes due within 12 Months
B16: Prepaid Expenses | I16: Due this Bank (Schedule L1) | M16: =(SCHEDULE.XLS!X18)
I17: Due Others (Schedule L1) | M17: =(SCHEDULE.XLS!Y18)
I19: Long Term Pmts due within 12 Months
I20: Due This Bank (Schedule L) | M20: =(SCHEDULE.XLS!X48)
B21: Other Current Assets | I21: Due Others (Schedule L) | M21: =(SCHEDULE.XLS!Y48)
B23: Livestock (Schedule B) | F23: =(SCHEDULE.XLS!V36) | I23: Taxes Payable
B24: Feed/Grain (Schedule C) | F24: =(SCHEDULE.XLS!F55) | I24: Accrued Interest Payable | M24: =(SCHEDULE.XLS!V48)
A26: Total Current Assets: | F26: =IF(SUM(F8:F25)<>0,SUM(F8:F25),"") | H26: Total Current Liabilities: | M26: =IF(SUM(M8:M25)<>0,SUM(M8:M25),"")
A27: Intermediate Assets: | H27: Intermediate Liabilities:
B28: Cash Value, Life Insurance | I28: Intallment Loans
B29: Breeding Stock (Schedule B) | F29: =(SCHEDULE.XLS!U36) | I29: Due this Bank (Schedule L2) | M29: =(SCHEDULE.XLS!Z32)
B30: Machinery (Schedule D) | F30: =(SCHEDULE.XLS!J47) | I30: Due Others (Schedule L2) | M30: =(SCHEDULE.XLS!AA32)
B31: Titled Vehicles (Schedule E) | I31: Other Intermediate Liabilities
B32: Misc. Equipment & Tools
B33: Other Intermediate Assets
H35: Total Intermediate Liabilities: | M35: =IF(SUM(M28:M34)<>0,SUM(M28:M34),"")
H36: Long Term Liabilities:
A37: Total Intermediate Assets: | F37: =IF(SUM(F28:F36)<>0,SUM(F28:F36),"") | I37: R.E. Mortgage
A38: Long Term/Fixed Assets: | I38: Due this Bank (Schedule L3) | M38: =(SCHEDULE.XLS!Z46)
B39: Real Estate (Schedule A) | F39: =(SCHEDULE.XLS!F17) | I39: Due Others (Schedule L3) | M39: =(SCHEDULE.XLS!AA46)
B40: Personal Property | I40: Other Long Term Debt
B41: Other Long Term Assets
H43: Total Long Term Liabilities: | M43: =IF(SUM(M37:M42)<>0,SUM(M37:M42),"")
H44: Total Liabilities: | M44: =IF(SUM(M26,M35,M43)<>0,SUM(M26,M35,M43),"")
A45: Total Long Term Assets: | F45: =IF(SUM(F39:F44)<>0,SUM(F39:F44),"") | H45: Net Worth: | M45: =IF(SUM(F46,(-M44))<>0,SUM(F46,(-M44)),"") -> #VALUE!
A46: Total Assets: | F46: =IF(SUM(F26,F37,F45)<>0,SUM(F26,F37,F45),"") | H46: Total Liabilities & Net Worth: | M46: =IF(SUM(M44,M45)<>0,SUM(M44,M45),"") -> #VALUE!
B47: For the purpose of securing credit from time to time this statement is furnished and is certified to be true and correct. I (or We) agree
B48: to notify the bank promptly of any material change herein. The bank is authorized to verify the statement contained herein and all
B49: information contained on this statement will be held in confidence. I (or We) understand that false statements concerning any of the
...
